BEGIN:VCALENDAR
METHOD:PUBLISH
VERSION:2.0
PRODID:-//hacksw/handcal//NONSGML v1.0//EN
X-WR-TIMEZONE:Australia/Sydney
CALSCALE:GREGORIAN
BEGIN:VEVENT
DTSTART;TZID=Australia/Sydney:20260520T100000
DTEND;TZID=Australia/Sydney:20260520T123000
UID:177554565069D4AD32CE9DA0997158781420436520069D4AD32CE9EF93852682
DTSTAMP:20260426T031231
LOCATION:SCHVC Club Rooms
DESCRIPTION:We have the East Gippsland Historical Automobile Club from Bai
 rnsdale coming to visit and have a tour of our premises.  They will be ar
 riving at approx 10am for a with a guided tour of our vehicles on display 
 followed by morning tea with fresh scones. Please bring along your club ve
 hicle to display and meet members of a fellow car club.  I would apprecia
 te if you can advise me of your attendance and for catering. 
URL;VALUE=URI:http://schvc.com.au/events/view.php?id=177554565069D4AD32CE9
 DA0997158781420436520069D4AD32CE9EF93852682
SUMMARY:Club Visit - East Gippsland Historical Automobile Club
END:VEVENT
END:VCALENDAR
