BEGIN:VCALENDAR
METHOD:PUBLISH
VERSION:2.0
PRODID:-//hacksw/handcal//NONSGML v1.0//EN
X-WR-TIMEZONE:Australia/Sydney
CALSCALE:GREGORIAN
BEGIN:VEVENT
DTSTART;TZID=Australia/Sydney:20260507T193000
DTEND;TZID=Australia/Sydney:20260507T204500
UID:159261770346979933A0792D216225792141566018086979933A079406628530
DTSTAMP:20260425T051402
LOCATION:SCHVC Club Rooms
DESCRIPTION:Our Monthly General Meeting
URL;VALUE=URI:http://schvc.com.au/events/view.php?id=159261770346979933A07
 92D216225792141566018086979933A079406628530
SUMMARY:General Meeting
END:VEVENT
END:VCALENDAR
