BEGIN:VCALENDAR
METHOD:PUBLISH
VERSION:2.0
PRODID:-//hacksw/handcal//NONSGML v1.0//EN
X-WR-TIMEZONE:Australia/Sydney
CALSCALE:GREGORIAN
BEGIN:VEVENT
DTSTART;TZID=Australia/Sydney:20260509T100000
DTEND;TZID=Australia/Sydney:20260509T130000
UID:1420435265669D4A7127D73F983478121532663224669D4A7127D76842523185
DTSTAMP:20260425T051332
LOCATION:SCHVC Club Premises Greigs Flat.
DESCRIPTION:Save the date to your calendars Saturday 9th May.  We are run
 ning a Cancer Council Fundraiser Biggest Morning Tea at the club. We all k
 now someone who has been touched by cancer so please come along to our Mor
 ning Tea followed by BBQ lunch at the club. If you are a new or old member
 , please come along and contribute to this wonderful fund raiser for such 
 an important cause. Bring your neighbours, friends, grand kids, everyone i
 s welcome.  Pam will be cooking her yummy scones. Members please bring al
 ong a plate to share. There will be entertainment with games to play and t
 he sheds will be open with all the great cars on display. Please don\'t mi
 ss this event and remember to bring your car or bike along to display. 
URL;VALUE=URI:http://schvc.com.au/events/view.php?id=1420435265669D4A7127D
 73F983478121532663224669D4A7127D76842523185
SUMMARY:Biggest Morning Tea - Cancer Council Fundraiser
END:VEVENT
END:VCALENDAR
