BEGIN:VCALENDAR
METHOD:PUBLISH
VERSION:2.0
PRODID:-//hacksw/handcal//NONSGML v1.0//EN
X-WR-TIMEZONE:Australia/Sydney
CALSCALE:GREGORIAN
BEGIN:VEVENT
DTSTART;TZID=Australia/Sydney:20260430T100000
DTEND;TZID=Australia/Sydney:20260430T110000
UID:069BB4E5B8B6039934224491596494673969BB4E5B8B61854623407715964946
DTSTAMP:20260425T051824
LOCATION:Aqua Cafe, Pambula Beach Caravan Park
DESCRIPTION:Every Thursday at 10am, we meet at a rotating selection of loc
 al coffee spots (check the app and website) for a relaxed caffeine catch-u
 p and the opportunity to take your vehicle for an outing. There\'s no itin
 erary – just your classic stretching its legs alongside other classics, 
 and plenty of banter between their proud owners. Log Books are NOT require
 d to be filled - these are sanctioned \"Club Events\"
URL;VALUE=URI:http://schvc.com.au/events/view.php?id=069BB4E5B8B6039934224
 491596494673969BB4E5B8B61854623407715964946
SUMMARY:Classics & Coffee - 10am at Aqua Cafe, Pambula Beach
END:VEVENT
END:VCALENDAR
