BEGIN:VCALENDAR
METHOD:PUBLISH
VERSION:2.0
PRODID:-//hacksw/handcal//NONSGML v1.0//EN
X-WR-TIMEZONE:Australia/Sydney
CALSCALE:GREGORIAN
BEGIN:VEVENT
DTSTART;TZID=Australia/Sydney:20260509T083000
DTEND;TZID=Australia/Sydney:20260509T120000
UID:06979944B0EC4005191942135391509986979944B0EC52911304763353915099
DTSTAMP:20260425T051509
LOCATION:SCHVC Premises
DESCRIPTION:Our monthly working bee followed by BBQ
URL;VALUE=URI:http://schvc.com.au/events/view.php?id=06979944B0EC400519194
 2135391509986979944B0EC52911304763353915099
SUMMARY:Working Bee
END:VEVENT
END:VCALENDAR
